BEGIN:VCALENDAR
VERSION:2.0
PRODID:-//Library Market//iCal Export//EN
BEGIN:VEVENT
SUMMARY:VCC Mobile Unit
UID:52689
DTSTAMP:20260419T124600Z
DTSTART:20261202T163000Z
DTEND:20261202T233000Z
LOCATION:2855 Cedar Rd, Oceanside, CA 92056, United States
ROOM: VCC Mobile Unit
DESCRIPTION:Vista Community Clinic mobile unit
URL:https://oceansidepl.librarycalendar.com/event/vcc-mobile-unit-52689
END:VEVENT
END:VCALENDAR
