BEGIN:VCALENDAR
VERSION:2.0
PRODID:-//Library Market//iCal Export//EN
BEGIN:VEVENT
SUMMARY:AARP - San Diego Scam Jam: Building Your Fraud-Prevention Toolkit
UID:51496
DTSTAMP:20260419T172700Z
DTSTART:20260508T170000Z
DTEND:20260508T180000Z
LOCATION:Civic Center Library, 330 North Coast Hwy, Oceanside, CA 92054, U
 nited States
ROOM: Civic Center Library Community Room
DESCRIPTION:Did you know elder fraud scams led to more than$160 million in
  reported losses in San DiegoCounty in 2025? Join us for an interactive se
 ssionfocused on recognizing, preventing, and reportingfraud. Learn how sca
 mmers manipulate emotions,practice spotting red flags, and strengthen your
 fraud‑prevention toolkit. To sign up, scan the QR code or visitaarp.org
 /SanDiegoScamJam
URL:https://oceansidepl.librarycalendar.com/event/aarp-scam-jam-tour-51496
END:VEVENT
END:VCALENDAR
