BEGIN:VCALENDAR
VERSION:2.0
PRODID:-//Library Market//iCal Export//EN
BEGIN:VEVENT
SUMMARY:Movie Monday: Monsters, Inc.
UID:51052
DTSTAMP:20260421T182200Z
DTSTART:20260511T230000Z
DTEND:20260512T003000Z
LOCATION:Civic Center Library, 330 North Coast Hwy, Oceanside, CA 92054, U
 nited States
ROOM: Civic Center Library Storycorner
DESCRIPTION:Sit back, relax, and enjoy Movie Mondays at the Library with t
 he family! Every Monday, starting at 4:00 p.m., we&#039;re showing a free 
 family-friendly film and serving a hot afterschool meal for kids ages 0â€“
 18.Â No registration needed, just drop in and enjoy.PÃ³ngase cÃ³modo, relÃ
 ¡jese y disfrute de los Lunes de Cine en la Biblioteca con toda la familia
 . Todos los lunes, a partir de las 4:00 p. m., presentamos una pelÃ­cula g
 ratuita para toda la familia y servimos una comida caliente despuÃ©s de la
  escuela para niÃ±os de 0 a 18 aÃ±os.No es necesario registrarse, solo acÃ
 ©rquese y disfrute.Â This institution is an equal opportunity provider. Th
 e CLA Lunch at the Library Partner Project is supported in whole or in par
 t by funding provided by the State of California, administered by the Cali
 fornia State Library.
URL:https://oceansidepl.librarycalendar.com/event/movie-monday-51052
END:VEVENT
END:VCALENDAR
