BEGIN:VCALENDAR
VERSION:2.0
PRODID:-//Library Market//iCal Export//EN
BEGIN:VEVENT
SUMMARY:Artsy Adults - Everlasting Flower Arrangement
UID:50617
DTSTAMP:20260422T065700Z
DTSTART:20260512T230000Z
DTEND:20260513T010000Z
LOCATION:3861 Mission Ave, Oceanside, CA 92058, United States
ROOM: Mission Branch Community Room
DESCRIPTION:Unwind while crafting your own set of whimsical, everlasting f
 lowers. Materials, including a small vase, will be provided courtesy of Th
 e Friends of the Oceanside Public Library.
URL:https://oceansidepl.librarycalendar.com/event/artsy-adults-50617
END:VEVENT
END:VCALENDAR
