BEGIN:VCALENDAR
VERSION:2.0
PRODID:-//Library Market//iCal Export//EN
BEGIN:VEVENT
SUMMARY:Tween Chapter Book Club
UID:43350
DTSTAMP:20260422T022300Z
DTSTART:20260520T230000Z
DTEND:20260520T234500Z
LOCATION:3861 Mission Ave, Oceanside, CA 92058, United States
ROOM: Mission Branch Community Room
DESCRIPTION:Read and discuss the chapter book Lola by Karla Arenas Valenti
 Description: Determined to save her brother from the Darkness that plagues
  their home, ten-year-old Lola follows mythical chaneques into a secret wo
 rld where she seeks help from the queen.
URL:https://oceansidepl.librarycalendar.com/event/tween-chapter-book-club-
 43350
END:VEVENT
END:VCALENDAR
