BEGIN:VCALENDAR
VERSION:2.0
PRODID:-//Library Market//iCal Export//EN
BEGIN:VEVENT
SUMMARY:Cool Beans Adventure to Mexico
UID:41092
DTSTAMP:20260423T173900Z
DTSTART:20260518T230000Z
DTEND:20260519T000000Z
LOCATION:Civic Center Library, 330 North Coast Hwy, Oceanside, CA 92054, U
 nited States
ROOM: Civic Center Library Community Room
DESCRIPTION:In our evidence-based, multicultural &amp; eco-focused Cool 
 Beans Adventure Around the World nutrition club, elementary students lear
 n about healthy eating in the context of diverse culture, geography and hi
 story. This month, kids will enjoy a virtual tour of Mexico, exploring the
  country&#039;s beautiful culture, and prepare a delicious food using pint
 o beans!Photo Release Notice:At this event, photography and/or filming may
  occur by Library staff or partners for use on social media, marketing, we
 bsite, educational purposes, etc. By attending this event you give permiss
 ion to be photographed and/or filmed.If you would not like to be photograp
 hed and/or filmed please tell Library staff or email Anita Morales at anmo
 rales@oceansideca.org.
URL:https://oceansidepl.librarycalendar.com/event/cool-beans-adventure-mex
 ico-41092
END:VEVENT
END:VCALENDAR
